BEGIN:VCALENDAR
VERSION:2.0
PRODID:-//SEXI MEXI - ECPv6.15.12.2//NONSGML v1.0//EN
CALSCALE:GREGORIAN
METHOD:PUBLISH
X-WR-CALNAME:SEXI MEXI
X-ORIGINAL-URL:https://eatseximexi.com
X-WR-CALDESC:Events for SEXI MEXI
REFRESH-INTERVAL;VALUE=DURATION:PT1H
X-Robots-Tag:noindex
X-PUBLISHED-TTL:PT1H
BEGIN:VTIMEZONE
TZID:America/New_York
BEGIN:DAYLIGHT
TZOFFSETFROM:-0500
TZOFFSETTO:-0400
TZNAME:EDT
DTSTART:20250309T070000
END:DAYLIGHT
BEGIN:STANDARD
TZOFFSETFROM:-0400
TZOFFSETTO:-0500
TZNAME:EST
DTSTART:20251102T060000
END:STANDARD
BEGIN:DAYLIGHT
TZOFFSETFROM:-0500
TZOFFSETTO:-0400
TZNAME:EDT
DTSTART:20260308T070000
END:DAYLIGHT
BEGIN:STANDARD
TZOFFSETFROM:-0400
TZOFFSETTO:-0500
TZNAME:EST
DTSTART:20261101T060000
END:STANDARD
BEGIN:DAYLIGHT
TZOFFSETFROM:-0500
TZOFFSETTO:-0400
TZNAME:EDT
DTSTART:20270314T070000
END:DAYLIGHT
BEGIN:STANDARD
TZOFFSETFROM:-0400
TZOFFSETTO:-0500
TZNAME:EST
DTSTART:20271107T060000
END:STANDARD
END:VTIMEZONE
BEGIN:VEVENT
DTSTART;TZID=America/New_York:20260412T000000
DTEND;TZID=America/New_York:20260412T235959
DTSTAMP:20260420T051016
CREATED:20260103T023347Z
LAST-MODIFIED:20260103T023347Z
UID:249-1775952000-1776038399@eatseximexi.com
SUMMARY:Food Truck at The Hill School
DESCRIPTION:
URL:https://eatseximexi.com/calendar/food-truck-at-the-hill-school/
LOCATION:The Hill School\, 130 South Madison St.\, Middleburg\, VA\, 20117\, United States
CATEGORIES:Food Truck
END:VEVENT
END:VCALENDAR