BEGIN:VCALENDAR
VERSION:2.0
PRODID:-//SEXI MEXI - ECPv6.15.12.2//NONSGML v1.0//EN
CALSCALE:GREGORIAN
METHOD:PUBLISH
X-WR-CALNAME:SEXI MEXI
X-ORIGINAL-URL:https://eatseximexi.com
X-WR-CALDESC:Events for SEXI MEXI
REFRESH-INTERVAL;VALUE=DURATION:PT1H
X-Robots-Tag:noindex
X-PUBLISHED-TTL:PT1H
BEGIN:VTIMEZONE
TZID:America/New_York
BEGIN:DAYLIGHT
TZOFFSETFROM:-0500
TZOFFSETTO:-0400
TZNAME:EDT
DTSTART:20250309T070000
END:DAYLIGHT
BEGIN:STANDARD
TZOFFSETFROM:-0400
TZOFFSETTO:-0500
TZNAME:EST
DTSTART:20251102T060000
END:STANDARD
BEGIN:DAYLIGHT
TZOFFSETFROM:-0500
TZOFFSETTO:-0400
TZNAME:EDT
DTSTART:20260308T070000
END:DAYLIGHT
BEGIN:STANDARD
TZOFFSETFROM:-0400
TZOFFSETTO:-0500
TZNAME:EST
DTSTART:20261101T060000
END:STANDARD
BEGIN:DAYLIGHT
TZOFFSETFROM:-0500
TZOFFSETTO:-0400
TZNAME:EDT
DTSTART:20270314T070000
END:DAYLIGHT
BEGIN:STANDARD
TZOFFSETFROM:-0400
TZOFFSETTO:-0500
TZNAME:EST
DTSTART:20271107T060000
END:STANDARD
END:VTIMEZONE
BEGIN:VEVENT
DTSTART;TZID=America/New_York:20260603T110000
DTEND;TZID=America/New_York:20260603T133000
DTSTAMP:20260420T124323
CREATED:20260102T035125Z
LAST-MODIFIED:20260102T035125Z
UID:221-1780484400-1780493400@eatseximexi.com
SUMMARY:Food Truck at US Army Corps of Engineers
DESCRIPTION:
URL:https://eatseximexi.com/calendar/food-truck-at-us-army-corps-of-engineers-7/
LOCATION:US Army Corps of Engineers\, 201 Prince Frederick Dr\, Winchester\, VA\, 22601\, United States
CATEGORIES:Food Truck
ORGANIZER;CN="SEXI MEXI":MAILTO:info@sexi-mexi.com
END:VEVENT
BEGIN:VEVENT
DTSTART;TZID=America/New_York:20260606T160000
DTEND;TZID=America/New_York:20260606T210000
DTSTAMP:20260420T124323
CREATED:20260102T023243Z
LAST-MODIFIED:20260102T023243Z
UID:182-1780761600-1780779600@eatseximexi.com
SUMMARY:Food Truck at Arterra
DESCRIPTION:
URL:https://eatseximexi.com/calendar/food-truck-at-arterra-2/
LOCATION:Arterra\, 1808 Leeds Manor Rd\, Delaplane\, VA\, 22601\, United States
CATEGORIES:Food Truck
ORGANIZER;CN="SEXI MEXI":MAILTO:info@sexi-mexi.com
END:VEVENT
BEGIN:VEVENT
DTSTART;TZID=America/New_York:20260612T163000
DTEND;TZID=America/New_York:20260612T210000
DTSTAMP:20260420T124323
CREATED:20260102T034649Z
LAST-MODIFIED:20260102T034649Z
UID:211-1781281800-1781298000@eatseximexi.com
SUMMARY:Food Truck at Gardens at Night
DESCRIPTION:
URL:https://eatseximexi.com/calendar/food-truck-at-gardens-at-night-2/
LOCATION:Gardens at Night\, 901 Amherst St\, Winchester\, 22601
CATEGORIES:Food Truck
ORGANIZER;CN="Museum of the Shenandoah Valley":MAILTO:visit@theMSV.org
END:VEVENT
BEGIN:VEVENT
DTSTART;TZID=America/New_York:20260627T120000
DTEND;TZID=America/New_York:20260627T200000
DTSTAMP:20260420T124323
CREATED:20260102T035538Z
LAST-MODIFIED:20260102T035538Z
UID:238-1782561600-1782590400@eatseximexi.com
SUMMARY:Food Truck at Old Bust Head
DESCRIPTION:
URL:https://eatseximexi.com/calendar/food-truck-at-old-bust-head-5/
LOCATION:Old Bust Head Brewing Company\, 7134 Farm Station Rd\, New Baltimore\, VA\, 20187\, United States
CATEGORIES:Food Truck
ORGANIZER;CN="SEXI MEXI":MAILTO:info@sexi-mexi.com
END:VEVENT
END:VCALENDAR