BEGIN:VCALENDAR
VERSION:2.0
PRODID:-//SEXI MEXI - ECPv6.15.12.2//NONSGML v1.0//EN
CALSCALE:GREGORIAN
METHOD:PUBLISH
X-WR-CALNAME:SEXI MEXI
X-ORIGINAL-URL:https://eatseximexi.com
X-WR-CALDESC:Events for SEXI MEXI
REFRESH-INTERVAL;VALUE=DURATION:PT1H
X-Robots-Tag:noindex
X-PUBLISHED-TTL:PT1H
BEGIN:VTIMEZONE
TZID:America/New_York
BEGIN:DAYLIGHT
TZOFFSETFROM:-0500
TZOFFSETTO:-0400
TZNAME:EDT
DTSTART:20250309T070000
END:DAYLIGHT
BEGIN:STANDARD
TZOFFSETFROM:-0400
TZOFFSETTO:-0500
TZNAME:EST
DTSTART:20251102T060000
END:STANDARD
BEGIN:DAYLIGHT
TZOFFSETFROM:-0500
TZOFFSETTO:-0400
TZNAME:EDT
DTSTART:20260308T070000
END:DAYLIGHT
BEGIN:STANDARD
TZOFFSETFROM:-0400
TZOFFSETTO:-0500
TZNAME:EST
DTSTART:20261101T060000
END:STANDARD
BEGIN:DAYLIGHT
TZOFFSETFROM:-0500
TZOFFSETTO:-0400
TZNAME:EDT
DTSTART:20270314T070000
END:DAYLIGHT
BEGIN:STANDARD
TZOFFSETFROM:-0400
TZOFFSETTO:-0500
TZNAME:EST
DTSTART:20271107T060000
END:STANDARD
END:VTIMEZONE
BEGIN:VEVENT
DTSTART;TZID=America/New_York:20260204T110000
DTEND;TZID=America/New_York:20260204T133000
DTSTAMP:20260420T141607
CREATED:20260101T161104Z
LAST-MODIFIED:20260101T163316Z
UID:164-1770202800-1770211800@eatseximexi.com
SUMMARY:Food Truck at US Army Corps of Engineers
DESCRIPTION:
URL:https://eatseximexi.com/calendar/food-truck-at-us-army-corps-of-engineers-2/
LOCATION:US Army Corps of Engineers\, 201 Prince Frederick Dr\, Winchester\, VA\, 22601\, United States
CATEGORIES:Food Truck
ORGANIZER;CN="SEXI MEXI":MAILTO:info@sexi-mexi.com
END:VEVENT
BEGIN:VEVENT
DTSTART;TZID=America/New_York:20260107T110000
DTEND;TZID=America/New_York:20260107T133000
DTSTAMP:20260420T141607
CREATED:20260101T160547Z
LAST-MODIFIED:20260101T204952Z
UID:160-1767783600-1767792600@eatseximexi.com
SUMMARY:Food Truck at US Army Corps of Engineers
DESCRIPTION:
URL:https://eatseximexi.com/calendar/food-truck-at-us-army-corps-of-engineers/
LOCATION:US Army Corps of Engineers\, 201 Prince Frederick Dr\, Winchester\, VA\, 22601\, United States
CATEGORIES:Food Truck
ORGANIZER;CN="SEXI MEXI":MAILTO:info@sexi-mexi.com
END:VEVENT
END:VCALENDAR